BEGIN:VCALENDAR
VERSION:2.0
PRODID:-//ISI3D
CALSCALE:GREGORIAN
METHOD:PUBLISH
X-WR-CALNAME:ISI3D
X-ORIGINAL-URL:http://www.isi3d.com/event/the-ecosystem-within-us/
X-WR-CALDESC:Revit para gestión de avances de obra
BEGIN:VEVENT
DTSTART:20151127T190000
DTEND:20151127T200000
SUMMARY:Revit para gestión de avances de obra
DESCRIPTION:Nor again is there anyone who loves or pursues or desires to obtain pain of itself, because it is pain, but because occasionally circumstances occur in which toil and pain can procure.
LOCATION:Bentley Campus, Perth, WA
END:VEVENT
END:VCALENDAR
