BEGIN:VCALENDAR
VERSION:2.0
PRODID:-//ISI3D
CALSCALE:GREGORIAN
METHOD:PUBLISH
X-WR-CALNAME:ISI3D
X-ORIGINAL-URL:http://www.isi3d.com/event/strategy-for-diabetes-treatment/
X-WR-CALDESC:Solidworks 2016 Novedades de la version
BEGIN:VEVENT
DTSTART:20151116T190000
DTEND:20151116T200000
SUMMARY:Solidworks 2016 Novedades de la version
DESCRIPTION:But in certain circumstances and owing to the claims of duty or the obligations of business it will frequently occur that pleasures.
LOCATION:Bentley Campus, Perth, WA
END:VEVENT
END:VCALENDAR
