BEGIN:VCALENDAR
VERSION:2.0
PRODID:-//ISI3D
CALSCALE:GREGORIAN
METHOD:PUBLISH
X-WR-CALNAME:ISI3D
X-ORIGINAL-URL:http://www.isi3d.com/event/learning-from-nature-native-peoples/
X-WR-CALDESC:Nuevas herramientas de Tekla v20
BEGIN:VEVENT
DTSTART:20151002T150000
DTEND:20151002T200000
SUMMARY:Nuevas herramientas de Tekla v20
DESCRIPTION:Business it will frequently occur that pleasures have to be repudiated and annoyances accepted. The wise man therefore always holds.
LOCATION:Bentley Campus, Perth, WA
END:VEVENT
END:VCALENDAR
